BEGIN:VCALENDAR
VERSION:2.0
PRODID:-//Grand Vacation - ECPv6.15.20//NONSGML v1.0//EN
CALSCALE:GREGORIAN
METHOD:PUBLISH
X-ORIGINAL-URL:https://travelgrandvacations.com
X-WR-CALDESC:Events for Grand Vacation
REFRESH-INTERVAL;VALUE=DURATION:PT1H
X-Robots-Tag:noindex
X-PUBLISHED-TTL:PT1H
BEGIN:VTIMEZONE
TZID:UTC
BEGIN:STANDARD
TZOFFSETFROM:+0000
TZOFFSETTO:+0000
TZNAME:UTC
DTSTART:20230101T000000
END:STANDARD
END:VTIMEZONE
BEGIN:VEVENT
DTSTART;VALUE=DATE:20241217
DTEND;VALUE=DATE:20241220
DTSTAMP:20260424T175746
CREATED:20240520T042528Z
LAST-MODIFIED:20240520T042528Z
UID:3331-1734393600-1734652799@travelgrandvacations.com
SUMMARY:IAEE Annual Meeting & Exhibition 2024
DESCRIPTION:Expo! Expo! is the ultimate event for attendees\, exhibitors\, and social responsibility enthusiasts. Join us for a day of learning\, networking\, and exploring the latest trends in the industry.
URL:https://travelgrandvacations.com/event/iaee-annual-meeting-exhibition-2024/
LOCATION:Home
CATEGORIES:Los Angeles
ATTACH;FMTTYPE=image/jpeg:https://travelgrandvacations.com/wp-content/uploads/2024/05/2023.12.11-Expo-Expo-Recap22.jpg
END:VEVENT
BEGIN:VEVENT
DTSTART;VALUE=DATE:20241121
DTEND;VALUE=DATE:20241122
DTSTAMP:20260424T175746
CREATED:20240520T043159Z
LAST-MODIFIED:20240520T043159Z
UID:3332-1732147200-1732233599@travelgrandvacations.com
SUMMARY:Marketing Automotive Conference 2024
DESCRIPTION:California\, the nation’s largest auto market\, took a significant step by voting to prohibit the sale of new gasoline-powered vehicles. This impacts the competitive market and raises questions about automakers’ strategies to engage consumers and ensure their readiness.
URL:https://travelgrandvacations.com/event/marketing-automotive-conference-2024/
LOCATION:Home
CATEGORIES:Los Angeles
ATTACH;FMTTYPE=image/webp:https://travelgrandvacations.com/wp-content/uploads/2024/05/OC-Auto-Show.webp
END:VEVENT
BEGIN:VEVENT
DTSTART;VALUE=DATE:20241016
DTEND;VALUE=DATE:20241020
DTSTAMP:20260424T175746
CREATED:20240520T041533Z
LAST-MODIFIED:20240520T041533Z
UID:3330-1729036800-1729382399@travelgrandvacations.com
SUMMARY:ID Week 2024
DESCRIPTION:Week is the premier forum for infectious disease health professionals to collaborate\, connect\, and learn from each other’s expertise for the improvement of patient care and public health. Join your global community of experts to advance breakthroughs and lead conversations in the field.
URL:https://travelgrandvacations.com/event/id-week-2024/
LOCATION:Home
CATEGORIES:Los Angeles
ATTACH;FMTTYPE=image/jpeg:https://travelgrandvacations.com/wp-content/uploads/2024/05/IDWeek351_KP7_6514_BostonOct1223-1.jpg
END:VEVENT
BEGIN:VEVENT
DTSTART;VALUE=DATE:20241009
DTEND;VALUE=DATE:20241011
DTSTAMP:20260424T175746
CREATED:20240520T041205Z
LAST-MODIFIED:20240520T041205Z
UID:3329-1728432000-1728604799@travelgrandvacations.com
SUMMARY:Going Global 2024
DESCRIPTION:The leading event for taking your business overseas will be arriving in LA to equip business professionals with the tools they need to expand into international territory. With over 150 exhibitors\, 60 seminars from business experts and unmissable masterclasses\, Going Global will provide unparalleled education and information on trade agreements\, international strategy\, cultural and economic differences\, and will connect you with an abundance of business owners\, under one-roof\, who are looking to invest abroad.
URL:https://travelgrandvacations.com/event/going-global-2024/
LOCATION:Home
CATEGORIES:Los Angeles
ATTACH;FMTTYPE=image/webp:https://travelgrandvacations.com/wp-content/uploads/2024/05/los-angeles-lrg.webp
END:VEVENT
BEGIN:VEVENT
DTSTART;VALUE=DATE:20241009
DTEND;VALUE=DATE:20241011
DTSTAMP:20260424T175746
CREATED:20240520T040849Z
LAST-MODIFIED:20240520T040849Z
UID:3328-1728432000-1728604799@travelgrandvacations.com
SUMMARY:B2B Marketing Expo 2024
DESCRIPTION:B2B Marketing Expo is on a mission to deliver innovation and inspiration to business professionals and marketers so that they can transform the way they work and drive their organization’s growth. The event is packed with expert speakers\, industry-leading exhibitors and live demos that will leave you buzzing with ideas and knowledge. The exhibition will cover a range of topics including; market research\, SEO\, advertising\, lead generation\, branding\, inbound marketing\, and much more. This year we have keynote speakers from some of the largest companies in the world including Google\, Netflix\, Uber\, and Twitch. You won’t want to miss this. Meet incredible suppliers at the event showcasing all the latest products and services needed to take your business to the next level. With hundreds of world-class exhibitors available to discuss and demonstrate their offerings in person\, it is easy.
URL:https://travelgrandvacations.com/event/b2b-marketing-expo-2024/
LOCATION:Home
CATEGORIES:Los Angeles
ATTACH;FMTTYPE=image/jpeg:https://travelgrandvacations.com/wp-content/uploads/2024/05/1708533375-dsc03765-scaled-1.jpg
END:VEVENT
BEGIN:VEVENT
DTSTART;VALUE=DATE:20241004
DTEND;VALUE=DATE:20241007
DTSTAMP:20260424T175746
CREATED:20240520T040447Z
LAST-MODIFIED:20240520T040447Z
UID:3327-1728000000-1728259199@travelgrandvacations.com
SUMMARY:Los Angeles Comic Con 2024
DESCRIPTION:An Event For Fans. By Fans.\n\n\n\n\n\n\n\n\nConnect with other like-minded fans at LA’s home for comics\, gaming\, cosplay\, anime\, and pop culture!
URL:https://travelgrandvacations.com/event/los-angeles-comic-con-2024/
LOCATION:Home
CATEGORIES:Los Angeles
ATTACH;FMTTYPE=image/webp:https://travelgrandvacations.com/wp-content/uploads/2024/05/IMAGES_LA-Comic-Con_Day-3_1_As-of-December-20-2022.webp
END:VEVENT
BEGIN:VEVENT
DTSTART;VALUE=DATE:20240926
DTEND;VALUE=DATE:20240929
DTSTAMP:20260424T175746
CREATED:20240520T035323Z
LAST-MODIFIED:20240520T035323Z
UID:3326-1727308800-1727567999@travelgrandvacations.com
SUMMARY:NACAC National Conference 2024
DESCRIPTION:The NACAC Conference offers educational content\, a virtual expo\, and special “super sessions” discussing critical issues in college admission counseling. The program replaces the national conference and provides monthly content throughout the academic year.
URL:https://travelgrandvacations.com/event/nacac-national-conference-2024/
LOCATION:Home
CATEGORIES:Los Angeles
ATTACH;FMTTYPE=image/jpeg:https://travelgrandvacations.com/wp-content/uploads/2024/05/53235026348_fa5d3f724e_c.jpg
END:VEVENT
BEGIN:VEVENT
DTSTART;VALUE=DATE:20240922
DTEND;VALUE=DATE:20240923
DTSTAMP:20260424T175746
CREATED:20240520T034935Z
LAST-MODIFIED:20240520T034935Z
UID:3325-1726963200-1727049599@travelgrandvacations.com
SUMMARY:California Bridal & Wedding Expo 2024
DESCRIPTION:At the #1 bridal & wedding services expo\, you’ll find everything you need to have the perfect wedding day!\nWhether you envision a formal black-tie affair or a casual barefoot ceremony on the beach\, our carefully selected experts are ready to offer advice in creating timeless memories for your perfect wedding.
URL:https://travelgrandvacations.com/event/california-bridal-wedding-expo-2024/
LOCATION:Home
CATEGORIES:Los Angeles
ATTACH;FMTTYPE=image/png:https://travelgrandvacations.com/wp-content/uploads/2024/05/pic-1.png
END:VEVENT
BEGIN:VEVENT
DTSTART;VALUE=DATE:20240911
DTEND;VALUE=DATE:20240914
DTSTAMP:20260424T175746
CREATED:20240520T034245Z
LAST-MODIFIED:20240520T034245Z
UID:3324-1726012800-1726271999@travelgrandvacations.com
SUMMARY:Americas Baby Children Maternity Expo 2024
DESCRIPTION:Americas Baby Children Maternity Expo is a world-renowned omnichannel business service platform for maternity\, infants and children\, it is committed to promoting and promoting international exchanges and trade cooperation in the global maternity\, infant and child industry. The exhibition covers maternal and infant products\, maternity\, infant and child food\, toys\, Carts and furniture\, children’s clothing\, shoes and accessories\, and other categories. Provide efficient zero-distance docking for upstream and downstream industries at home and abroad\, and provide an ideal platform and opportunity for brand promotion.
URL:https://travelgrandvacations.com/event/americas-baby-children-maternity-expo-2024/
LOCATION:Home
CATEGORIES:Los Angeles
ATTACH;FMTTYPE=image/jpeg:https://travelgrandvacations.com/wp-content/uploads/2024/05/1520059839093.jpeg
END:VEVENT
BEGIN:VEVENT
DTSTART;VALUE=DATE:20240905
DTEND;VALUE=DATE:20240907
DTSTAMP:20260424T175746
CREATED:20240520T034031Z
LAST-MODIFIED:20240520T034031Z
UID:3323-1725494400-1725667199@travelgrandvacations.com
SUMMARY:Disasters Expo USA 2024
DESCRIPTION:The leading event mitigating the worlda€™s most costly disasters is returning to the Anaheim Convention Center on September 27th & 28th 2023. Disasters Expo USA\, taking place in California is proud to provide a central platform for the industry to connect and engage with the industry leading professionals to better protect\, prevent\, respond and recover from natural disasters. Disasters Expo USA is designed to bring together the professionals within the disaster management and emergency response industry. With over 50 hours worth of unmissable content\, hand-picked keynote speakers and much more over just two days\, you are guaranteed to gain an all-encompassing insight into the industry. Join experts from FEMA\, NOAA\, World Bank\, County of Los Angeles and many more and have one-on-one conversations with the leading figureheads from organizations prevailing in the disaster industry.
URL:https://travelgrandvacations.com/event/disasters-expo-usa-2024/
LOCATION:Home
CATEGORIES:Los Angeles
ATTACH;FMTTYPE=image/png:https://travelgrandvacations.com/wp-content/uploads/2024/05/disasters-expo-usa-main-3dfaec41f5.png
END:VEVENT
BEGIN:VEVENT
DTSTART;VALUE=DATE:20240828
DTEND;VALUE=DATE:20240830
DTSTAMP:20260424T175746
CREATED:20240520T025219Z
LAST-MODIFIED:20240520T025219Z
UID:3322-1724803200-1724975999@travelgrandvacations.com
SUMMARY:Los Angeles Build Expo 2024
DESCRIPTION:The Build Expo in Los Angeles offers a unique opportunity for the building and construction sector to connect with numerous buyers in a single location. Exhibited products range from 3D renderings to safety equipment.
URL:https://travelgrandvacations.com/event/los-angeles-build-expo-2024/
LOCATION:Home
CATEGORIES:Los Angeles
ATTACH;FMTTYPE=image/jpeg:https://travelgrandvacations.com/wp-content/uploads/2024/05/IMG_3270.jpg
END:VEVENT
BEGIN:VEVENT
DTSTART;VALUE=DATE:20240825
DTEND;VALUE=DATE:20240828
DTSTAMP:20260424T175746
CREATED:20240520T024919Z
LAST-MODIFIED:20240520T024919Z
UID:3321-1724544000-1724803199@travelgrandvacations.com
SUMMARY:Coffee Fest Los Angeles 2024
DESCRIPTION:Coffee Fest Los Angeles is the specialty coffee B2B event that attracts owners\, operators\, and anyone interested in growing their specialty coffee & tea business career. It is a source for networking\, deepening existing supplier relations\, finding new products & services & education to build on what they already know. Gain new insights on a wide variety of hot topics\, get your hands working on some new skills\, or witness history in the making with our live coffee competitions and discover new products. Experience the sights and sounds of a thriving specialty coffee city while also meeting with other great local & national industry professionals.
URL:https://travelgrandvacations.com/event/coffee-fest-los-angeles-2024/
LOCATION:Home
CATEGORIES:Los Angeles
ATTACH;FMTTYPE=image/webp:https://travelgrandvacations.com/wp-content/uploads/2024/05/IMG_8914-46-m-scaled-1.webp
END:VEVENT
BEGIN:VEVENT
DTSTART;VALUE=DATE:20240825
DTEND;VALUE=DATE:20240828
DTSTAMP:20260424T175746
CREATED:20240520T024644Z
LAST-MODIFIED:20240520T024644Z
UID:3320-1724544000-1724803199@travelgrandvacations.com
SUMMARY:Western Foodservice & Hospitality Expo 2024
DESCRIPTION:The Western Foodservice & Hospitality Expo is a platform for various food industry personnel. Attendees can access menu trends\, design ideas\, educational sessions\, and vendors under one roof. The event offers live culinary performances\, awards ceremonies\, and roundtables\, with program tracks in Hot Topics\, Bar & Beverage\, Marketing & Social Media\, Operational Excellence\, and more. The show floor has exhibitors and pavilions showcasing emerging trends.
URL:https://travelgrandvacations.com/event/western-foodservice-hospitality-expo-2024/
LOCATION:Home
CATEGORIES:Los Angeles
ATTACH;FMTTYPE=image/jpeg:https://travelgrandvacations.com/wp-content/uploads/2024/05/2024-booth-westernfoodexpo-two-column-landing-page.jpg
END:VEVENT
BEGIN:VEVENT
DTSTART;VALUE=DATE:20240721
DTEND;VALUE=DATE:20240726
DTSTAMP:20260424T175746
CREATED:20240520T022703Z
LAST-MODIFIED:20240520T022703Z
UID:3319-1721520000-1721951999@travelgrandvacations.com
SUMMARY:American Association of Physicists in Medicine Meeting
DESCRIPTION:The mission of the American Association of Physicists in Medicine Meeting & Exhibition is to advance medicine by promoting excellence in the science\, education\, and professional practice of medical physics. This field combines physical principles with applications in biology and medicine.
URL:https://travelgrandvacations.com/event/american-association-of-physicists-in-medicine-meeting/
LOCATION:Home
CATEGORIES:Los Angeles
ATTACH;FMTTYPE=image/png:https://travelgrandvacations.com/wp-content/uploads/2024/05/five-group-RSNA-annual-meeting-L2.png
END:VEVENT
BEGIN:VEVENT
DTSTART;VALUE=DATE:20240712
DTEND;VALUE=DATE:20240714
DTSTAMP:20260424T175746
CREATED:20240520T021830Z
LAST-MODIFIED:20240520T021830Z
UID:3316-1720742400-1720915199@travelgrandvacations.com
SUMMARY:Annual Functional Aging Summit 2024
DESCRIPTION:Join Cody Sipe\, PhD and Dan Ritchie for a transformative event focused on healthy aging\, functional fitness\, and specialized training for older adults. Learn from industry experts about the latest research and techniques to help improve the lives of seniors and clients with special needs.
URL:https://travelgrandvacations.com/event/annual-functional-aging-summit-2024/
LOCATION:Home
CATEGORIES:Los Angeles
ATTACH;FMTTYPE=image/jpeg:https://travelgrandvacations.com/wp-content/uploads/2024/05/grow-business.jpg
END:VEVENT
BEGIN:VEVENT
DTSTART;VALUE=DATE:20240711
DTEND;VALUE=DATE:20240715
DTSTAMP:20260424T175746
CREATED:20240520T022410Z
LAST-MODIFIED:20240520T022410Z
UID:3318-1720656000-1721001599@travelgrandvacations.com
SUMMARY:Impact Summit 2024
DESCRIPTION:Connecting with individuals who share your values and goals is essential for rapid expansion. Emphasizing the importance of community and teamwork\, we explore how uniting with similar-minded people can enhance your influence. Discover the secrets to unleashing your full capabilities and increasing your impact globally.
URL:https://travelgrandvacations.com/event/impact-summit-2024/
LOCATION:Home
CATEGORIES:Los Angeles
ATTACH;FMTTYPE=image/png:https://travelgrandvacations.com/wp-content/uploads/2024/05/vignettes-agenda-du-climat-600x600-1.png
END:VEVENT
BEGIN:VEVENT
DTSTART;VALUE=DATE:20240710
DTEND;VALUE=DATE:20240715
DTSTAMP:20260424T175746
CREATED:20240520T022042Z
LAST-MODIFIED:20240520T022042Z
UID:3317-1720569600-1721001599@travelgrandvacations.com
SUMMARY:IDEA World 2024
DESCRIPTION:The IDEA World Virtual event brings together personal trainers\, fitness instructors\, gym owners\, health coaches\, entrepreneurs\, and experts to create a community of leaders capable of making positive global changes.
URL:https://travelgrandvacations.com/event/idea-world-2024/
LOCATION:Home
CATEGORIES:Los Angeles
ATTACH;FMTTYPE=image/jpeg:https://travelgrandvacations.com/wp-content/uploads/2024/05/IDEA-World-Features-1070x602-1.jpg
END:VEVENT
BEGIN:VEVENT
DTSTART;VALUE=DATE:20240704
DTEND;VALUE=DATE:20240708
DTSTAMP:20260424T175746
CREATED:20240520T021646Z
LAST-MODIFIED:20240520T021646Z
UID:3315-1720051200-1720396799@travelgrandvacations.com
SUMMARY:Anime Expo 2024
DESCRIPTION:Bringing fans and industry together to celebrate Japanese pop culture. Anime Expo is the largest anime con around\, with over 100\,000 fans in attendance. Grab your friends\, craft your cosplay\, and get ready to experience anime line never before.
URL:https://travelgrandvacations.com/event/anime-expo-2024/
LOCATION:Home
CATEGORIES:Los Angeles
ATTACH;FMTTYPE=image/webp:https://travelgrandvacations.com/wp-content/uploads/2024/05/anime-expo-los-angeles-convention-explore-exhibit-hall.webp
END:VEVENT
BEGIN:VEVENT
DTSTART;VALUE=DATE:20240701
DTEND;VALUE=DATE:20240703
DTSTAMP:20260424T175746
CREATED:20240520T021420Z
LAST-MODIFIED:20240520T021420Z
UID:3314-1719792000-1719964799@travelgrandvacations.com
SUMMARY:Scuba Show 2024
DESCRIPTION:Scuba Show features 76\,000+ sq. ft. exhibit space\, 300+ exhibitors\, seminars\, and clinics by experts. Attendees see latest dive equipment\, win prizes worth $45\,000\, and enjoy a party while raising funds for charity. Limited merchandise available.
URL:https://travelgrandvacations.com/event/scuba-show-2024/
LOCATION:Home
CATEGORIES:Los Angeles
ATTACH;FMTTYPE=image/jpeg:https://travelgrandvacations.com/wp-content/uploads/2024/05/CML-4897.jpg
END:VEVENT
BEGIN:VEVENT
DTSTART;VALUE=DATE:20240626
DTEND;VALUE=DATE:20240629
DTSTAMP:20260424T175746
CREATED:20240520T012052Z
LAST-MODIFIED:20240520T012052Z
UID:3313-1719360000-1719619199@travelgrandvacations.com
SUMMARY:PLC at Work Institute 2024
DESCRIPTION:Learn from leading experts at the Professional Learning Communities at Work Institute 2024.
URL:https://travelgrandvacations.com/event/plc-at-work-institute-2024/
LOCATION:Home
CATEGORIES:Los Angeles
ATTACH;FMTTYPE=image/png:https://travelgrandvacations.com/wp-content/uploads/2024/05/Convention-Calendar-500x286-88.png
END:VEVENT
BEGIN:VEVENT
DTSTART;VALUE=DATE:20240625
DTEND;VALUE=DATE:20240628
DTSTAMP:20260424T175746
CREATED:20240520T011827Z
LAST-MODIFIED:20240520T011827Z
UID:3312-1719273600-1719532799@travelgrandvacations.com
SUMMARY:Rapid + TCT 2024
DESCRIPTION:RAPID + TCT 2024 is a business event that requires JavaScript to function correctly. Attendees can register\, update their registration\, access their account\, book hotel rooms\, and more. No one under 18 is allowed.
URL:https://travelgrandvacations.com/event/rapid-tct-2024/
LOCATION:Home
CATEGORIES:Los Angeles
ATTACH;FMTTYPE=image/png:https://travelgrandvacations.com/wp-content/uploads/2024/05/Rapid.png
END:VEVENT
BEGIN:VEVENT
DTSTART;VALUE=DATE:20240614
DTEND;VALUE=DATE:20240617
DTSTAMP:20260424T175746
CREATED:20240520T011604Z
LAST-MODIFIED:20240520T011604Z
UID:3311-1718323200-1718582399@travelgrandvacations.com
SUMMARY:SoCal Cup: The Showcase 2024
DESCRIPTION:The Showcase tournament welcomes all teams\, with no limitations on age\, number\, grade level or gender. The Open Championships tournament is insured by AAU.
URL:https://travelgrandvacations.com/event/socal-cup-the-showcase-2024/
LOCATION:Home
CATEGORIES:Los Angeles
ATTACH;FMTTYPE=image/jpeg:https://travelgrandvacations.com/wp-content/uploads/2024/05/socalcup-volleyball-main-5ad73709f0.jpg
END:VEVENT
BEGIN:VEVENT
DTSTART;VALUE=DATE:20240601
DTEND;VALUE=DATE:20240603
DTSTAMP:20260424T175746
CREATED:20240520T011345Z
LAST-MODIFIED:20240520T011345Z
UID:3310-1717200000-1717372799@travelgrandvacations.com
SUMMARY:Los Angeles Ultimate Women's Expo 2024
DESCRIPTION:The Los Angeles Ultimate Women’s Expo season features over 400 exhibitors representing the very best products and services designed for women\, their families\, households\, and businesses. These include apparel\, accessories\, jewelry\, home decor\, fragrances\, home and garden\, financial planning\, health and wellness\, food and beverage\, and more. The expo also features celebrity keynote speakers\, inspiring seminars\, DIY sessions\, massages\, makeovers\, tastings\, and more.
URL:https://travelgrandvacations.com/event/los-angeles-ultimate-womens-expo-2024/
LOCATION:Home
CATEGORIES:Los Angeles
ATTACH;FMTTYPE=image/jpeg:https://travelgrandvacations.com/wp-content/uploads/2024/05/ultimate-woemn.jpg
END:VEVENT
END:VCALENDAR