BEGIN:VCALENDAR
VERSION:2.0
PRODID:-//Grand Vacation - ECPv6.15.20//NONSGML v1.0//EN
CALSCALE:GREGORIAN
METHOD:PUBLISH
X-WR-CALNAME:Grand Vacation
X-ORIGINAL-URL:https://travelgrandvacations.com
X-WR-CALDESC:Events for Grand Vacation
REFRESH-INTERVAL;VALUE=DURATION:PT1H
X-Robots-Tag:noindex
X-PUBLISHED-TTL:PT1H
BEGIN:VTIMEZONE
TZID:UTC
BEGIN:STANDARD
TZOFFSETFROM:+0000
TZOFFSETTO:+0000
TZNAME:UTC
DTSTART:20230101T000000
END:STANDARD
END:VTIMEZONE
BEGIN:VEVENT
DTSTART;VALUE=DATE:20241214
DTEND;VALUE=DATE:20241215
DTSTAMP:20260424T163405
CREATED:20240516T203143Z
LAST-MODIFIED:20240516T203143Z
UID:3309-1734134400-1734220799@travelgrandvacations.com
SUMMARY:Hospitality Gala 2024
DESCRIPTION:The Black Tie Event celebrates outstanding members of the hospitality industry with awards for Allied\, Engineer\, and Lodging Members of the Year. The Charles Andrews Award for Community Leadership is also presented. Must be 21+ to attend.
URL:https://travelgrandvacations.com/event/hospitality-gala-2024/
LOCATION:Home
CATEGORIES:Orlando, FL
ATTACH;FMTTYPE=image/jpeg:https://travelgrandvacations.com/wp-content/uploads/2024/05/CFHLAGala2023-1216-9198ab76-0e82-406e-bd7b-c71e6a1dd478.jpg
END:VEVENT
BEGIN:VEVENT
DTSTART;VALUE=DATE:20241207
DTEND;VALUE=DATE:20241212
DTSTAMP:20260424T163405
CREATED:20240516T202853Z
LAST-MODIFIED:20240516T202853Z
UID:3308-1733529600-1733961599@travelgrandvacations.com
SUMMARY:American Association of Equine Practitioners Convention & Trade Show 2024
DESCRIPTION:The largest gathering of equine veterinarians worldwide is the Annual Convention\, featuring more than 100 hours of classroom-style seminars and discussion forums on equine veterinary medicine\, techniques\, and professional growth.
URL:https://travelgrandvacations.com/event/american-association-of-equine-practitioners-convention-trade-show-2024/
LOCATION:Home
CATEGORIES:Orlando, FL
ATTACH;FMTTYPE=image/webp:https://travelgrandvacations.com/wp-content/uploads/2024/05/AAEVT-2024-Annual-Convention-2400x1200-01.webp
END:VEVENT
BEGIN:VEVENT
DTSTART;VALUE=DATE:20241206
DTEND;VALUE=DATE:20241210
DTSTAMP:20260424T163405
CREATED:20240516T202618Z
LAST-MODIFIED:20240516T202618Z
UID:3307-1733443200-1733788799@travelgrandvacations.com
SUMMARY:AAEVT Annual Convention 2024
DESCRIPTION:Let’s discuss\, collaborate and share! Join us for presentations and open forum discussions on relevant industry topics: “Navigating & Networking the AAEP Trade Show\,” presented by Jodi Findley; “How Best to Connect with Your Pharma Rep\,” lead by Amanda Compton and Wiss Costanza; and “Ask the Board Anything” with your 2023 AAEVT Executive Board members.
URL:https://travelgrandvacations.com/event/aaevt-annual-convention-2024/
LOCATION:Home
CATEGORIES:Orlando, FL
ATTACH;FMTTYPE=image/webp:https://travelgrandvacations.com/wp-content/uploads/2024/05/Lecturn-Microphone.webp
END:VEVENT
BEGIN:VEVENT
DTSTART;VALUE=DATE:20241202
DTEND;VALUE=DATE:20241207
DTSTAMP:20260424T163405
CREATED:20240516T202339Z
LAST-MODIFIED:20240516T202339Z
UID:3306-1733097600-1733529599@travelgrandvacations.com
SUMMARY:Interservice/Industry Training\, Simulation and Education Conference 2024
DESCRIPTION:Interservice/Industry Training\, Simulation and Education Conference is the world’s largest modeling\, simulation\, and training event. It consists of peer-reviewed paper presentations\, tutorials\, special events\, professional workshops\, a commercial exhibit hall\, a serious games competition\, and STEM events for teachers and secondary students.
URL:https://travelgrandvacations.com/event/interservice-industry-training-simulation-and-education-conference-2024/
LOCATION:Home
CATEGORIES:Orlando, FL
ATTACH;FMTTYPE=image/png:https://travelgrandvacations.com/wp-content/uploads/2024/05/24_vector_outlines.png
END:VEVENT
BEGIN:VEVENT
DTSTART;TZID=UTC:20241119T000000
DTEND;TZID=UTC:20241122T000000
DTSTAMP:20260424T163405
CREATED:20240516T202047Z
LAST-MODIFIED:20240516T202047Z
UID:3305-1731974400-1732233600@travelgrandvacations.com
SUMMARY:IAAPA Expo 2024
DESCRIPTION:IAAPA Expo offers an opportunity to experience the excitement of the amusement industry. Attendees include professionals from well-known theme parks\, entertainment centers\, and other attractions seeking innovation\, networking\, and new products.
URL:https://travelgrandvacations.com/event/iaapa-expo-2024/
LOCATION:Home
CATEGORIES:Orlando, FL
ATTACH;FMTTYPE=image/png:https://travelgrandvacations.com/wp-content/uploads/2024/05/Screenshot-2024-05-16-at-4.20.15 PM.png
END:VEVENT
BEGIN:VEVENT
DTSTART;TZID=UTC:20241114T000000
DTEND;TZID=UTC:20241117T000000
DTSTAMP:20260424T163405
CREATED:20240516T201826Z
LAST-MODIFIED:20240516T201826Z
UID:3304-1731542400-1731801600@travelgrandvacations.com
SUMMARY:Central Florida International Auto Show 2024
DESCRIPTION:Central Florida International Auto Show displays the latest vehicles from top brands like Chrysler\, Dodge\, Fiat\, Ford\, Jeep\, Ram\, and Toyota\, showcasing their latest designs and exciting technology in cars\, trucks\, SUVs\, crossovers\, and alternative fuel vehicles.
URL:https://travelgrandvacations.com/event/central-florida-international-auto-show-2024/
LOCATION:Home
CATEGORIES:Orlando, FL
ATTACH;FMTTYPE=image/png:https://travelgrandvacations.com/wp-content/uploads/2024/05/Screenshot-2024-05-16-at-4.17.12 PM.png
END:VEVENT
BEGIN:VEVENT
DTSTART;TZID=UTC:20241112T000000
DTEND;TZID=UTC:20241114T000000
DTSTAMP:20260424T163405
CREATED:20240516T201541Z
LAST-MODIFIED:20240516T201541Z
UID:3303-1731369600-1731542400@travelgrandvacations.com
SUMMARY:The Fertilizer Show 2024
DESCRIPTION:The Fertilizer Show is the world’s only global gathering of the entire fertilizer production supply chain\, acting as the meeting place to discuss the latest technologies for a sustainable\, efficient fertilizer industry. The free-to-attend exhibition will be an essential meeting place for fertilizer producers to source suppliers and meet experts able to assist them in creating efficient\, cost effective\, products with a strong focus on sustainability and emissions reduction.
URL:https://travelgrandvacations.com/event/the-fertilizer-show-2024/
LOCATION:Home
CATEGORIES:Orlando, FL
ATTACH;FMTTYPE=image/png:https://travelgrandvacations.com/wp-content/uploads/2024/05/TFS_24-Web_Images_850x1000-1-e1695914172380.png
END:VEVENT
BEGIN:VEVENT
DTSTART;TZID=UTC:20241106T000000
DTEND;TZID=UTC:20241107T000000
DTSTAMP:20260424T163405
CREATED:20240516T201320Z
LAST-MODIFIED:20240516T201320Z
UID:3302-1730851200-1730937600@travelgrandvacations.com
SUMMARY:Pizza Tomorrow Summit 2024
DESCRIPTION:The pizza industry’s movers and shakers will gather at an event in Orlando\, Florida to explore a wide range of products\, attend conferences\, and witness pizza competitions and demonstrations. This event aims to showcase new companies\, products\, and initiatives that will shape the future of the industry.
URL:https://travelgrandvacations.com/event/pizza-tomorrow-summit-2024/
LOCATION:Home
CATEGORIES:Orlando, FL
ATTACH;FMTTYPE=image/webp:https://travelgrandvacations.com/wp-content/uploads/2024/05/2.webp
END:VEVENT
BEGIN:VEVENT
DTSTART;TZID=UTC:20241106T000000
DTEND;TZID=UTC:20241107T000000
DTSTAMP:20260424T163405
CREATED:20240516T201040Z
LAST-MODIFIED:20240516T201040Z
UID:3301-1730851200-1730937600@travelgrandvacations.com
SUMMARY:Florida Restaurant & Lodging Show 2024
DESCRIPTION:The Florida Restaurant & Lodging Show is a pioneering event that exhibits products and services from the hotel\, restaurant\, and catering industry. It provides access to the hottest menu trends\, state-of-the-art designs and decor\, the best in business education\, and the leading vendors and purveyors dedicated to serving the restaurant and food service community – all under one roof. Through educational seminars and talk shows\, this event offers the opportunity to gain a wealth of knowledge from some of the best minds in the restaurant and food service industry.
URL:https://travelgrandvacations.com/event/florida-restaurant-lodging-show-2024/
LOCATION:Home
CATEGORIES:Orlando, FL
ATTACH;FMTTYPE=image/png:https://travelgrandvacations.com/wp-content/uploads/2024/05/Screenshot-2024-05-16-at-4.09.59 PM.png
END:VEVENT
BEGIN:VEVENT
DTSTART;TZID=UTC:20241023T000000
DTEND;TZID=UTC:20241025T000000
DTSTAMP:20260424T163405
CREATED:20240516T200314Z
LAST-MODIFIED:20240516T200314Z
UID:3300-1729641600-1729814400@travelgrandvacations.com
SUMMARY:RoofCON 2024
DESCRIPTION:At RoofCON Don’t miss this opportunity to connect\, learn\, and grow at the premier event for the roofing and solar community.
URL:https://travelgrandvacations.com/event/roofcon-2024/
LOCATION:Home
CATEGORIES:Orlando, FL
ATTACH;FMTTYPE=image/png:https://travelgrandvacations.com/wp-content/uploads/2024/05/Screenshot-2024-05-16-at-4.02.48 PM.png
END:VEVENT
BEGIN:VEVENT
DTSTART;TZID=UTC:20241015T000000
DTEND;TZID=UTC:20241017T000000
DTSTAMP:20260424T163405
CREATED:20240516T200055Z
LAST-MODIFIED:20240516T200055Z
UID:3299-1728950400-1729123200@travelgrandvacations.com
SUMMARY:Fabtech 2024
DESCRIPTION:FABTECH\, North America’s largest metal forming\, fabricating\, welding\, and finishing event\, returns to McCormick Place in September 2023. Meet 1\,400+ suppliers\, discover innovative solutions\, and learn from visionary leaders driving manufacturing forward. Transform your workforce to drive results and stay competitive.
URL:https://travelgrandvacations.com/event/fabtech-2024/
LOCATION:Home
CATEGORIES:Orlando, FL
ATTACH;FMTTYPE=image/jpeg:https://travelgrandvacations.com/wp-content/uploads/2024/05/B9205380.jpg
END:VEVENT
BEGIN:VEVENT
DTSTART;TZID=UTC:20241006T000000
DTEND;TZID=UTC:20241009T000000
DTSTAMP:20260424T163405
CREATED:20240516T195917Z
LAST-MODIFIED:20240516T195917Z
UID:3298-1728172800-1728432000@travelgrandvacations.com
SUMMARY:Annual AHCA/NCAL Convention & Expo 2024
DESCRIPTION:Earn CEs in a multitude of education sessions on a variety of topics of interest to long term care providers. Network with colleagues\, visit with company representatives in the Expo Hall\, and take home new strategies and ideas that you can put into practice right away.
URL:https://travelgrandvacations.com/event/annual-ahca-ncal-convention-expo-2024/
LOCATION:Home
CATEGORIES:Orlando, FL
ATTACH;FMTTYPE=image/jpeg:https://travelgrandvacations.com/wp-content/uploads/2024/05/markParkinson_AHCA2018_1250x700-860x482-1.jpg
END:VEVENT
BEGIN:VEVENT
DTSTART;TZID=UTC:20241006T000000
DTEND;TZID=UTC:20241006T000000
DTSTAMP:20260424T163405
CREATED:20240516T195524Z
LAST-MODIFIED:20240516T195524Z
UID:3297-1728172800-1728172800@travelgrandvacations.com
SUMMARY:Florida Bridal & Wedding Expo
DESCRIPTION:Interested in Exhibiting?\nWedding spending has once again reached an all time high. More than ever\, couples are looking to make their special day both unique and individualized. Capture your fair share of business at the largest and most consistent bridal shows in the country. We guarantee you’ll be impressed!
URL:https://travelgrandvacations.com/event/florida-bridal-wedding-expo/
LOCATION:Home
CATEGORIES:Orlando, FL
ATTACH;FMTTYPE=image/jpeg:https://travelgrandvacations.com/wp-content/uploads/2024/05/5fe0d79e9a00c.jpeg
END:VEVENT
BEGIN:VEVENT
DTSTART;TZID=UTC:20240927T000000
DTEND;TZID=UTC:20241129T000000
DTSTAMP:20260424T163405
CREATED:20240516T195218Z
LAST-MODIFIED:20240516T195218Z
UID:3296-1727395200-1732838400@travelgrandvacations.com
SUMMARY:Annual Orlando Fall Home & Garden Show 2024
DESCRIPTION:Everything you need to solve your home & garden projects.
URL:https://travelgrandvacations.com/event/annual-orlando-fall-home-garden-show-2024/
LOCATION:Home
CATEGORIES:Orlando, FL
ATTACH;FMTTYPE=image/png:https://travelgrandvacations.com/wp-content/uploads/2024/05/STECH24_00-10_Fall-2024-Web-Logos_Orlando_701x315.png
END:VEVENT
BEGIN:VEVENT
DTSTART;VALUE=DATE:20240923
DTEND;VALUE=DATE:20240926
DTSTAMP:20260424T163405
CREATED:20240516T194925Z
LAST-MODIFIED:20240516T194925Z
UID:3295-1727049600-1727308799@travelgrandvacations.com
SUMMARY:Global Security Exchange 2024
DESCRIPTION:Security demands staying a step ahead. Attending Global Security Exchange (GSX) yearly ensures you never fall behind. Be there when the worldwide security industry reconvenes to stay informed\, connected\, and prepared for what’s next. Brought to you by ASIS International—the world’s largest membership organization for security management professionals—involvement in GSX directly supports the funding of scholarship for security professionals and the administration of essential industry certifications\, standards\, and guidelines.
URL:https://travelgrandvacations.com/event/global-security-exchange-2024/
LOCATION:Home
CATEGORIES:Orlando, FL
ATTACH;FMTTYPE=image/jpeg:https://travelgrandvacations.com/wp-content/uploads/2024/05/52375062474_08913877d0_o-1.jpg
END:VEVENT
BEGIN:VEVENT
DTSTART;TZID=UTC:20240911T000000
DTEND;TZID=UTC:20240912T000000
DTSTAMP:20260424T163405
CREATED:20240516T194531Z
LAST-MODIFIED:20240516T194531Z
UID:3294-1726012800-1726099200@travelgrandvacations.com
SUMMARY:Beyond the Basics Coding Workshop 2024
DESCRIPTION:Learn everything you’ll need to know to excel.
URL:https://travelgrandvacations.com/event/beyond-the-basics-coding-workshop-2024/
LOCATION:Home
CATEGORIES:Orlando, FL
ATTACH;FMTTYPE=image/png:https://travelgrandvacations.com/wp-content/uploads/2024/05/Screenshot-2024-05-16-at-3.45.55 PM.png
END:VEVENT
BEGIN:VEVENT
DTSTART;TZID=UTC:20240908T000000
DTEND;TZID=UTC:20240912T000000
DTSTAMP:20260424T163405
CREATED:20240516T194214Z
LAST-MODIFIED:20240516T194214Z
UID:3293-1725753600-1726099200@travelgrandvacations.com
SUMMARY:SupercorrExpo 2024
DESCRIPTION:The Corrugated Industry has a strong foundation and is prepared to succeed in the future. Join the innovative professionals and companies that have proven their longevity through advanced technology\, intelligent strategies\, and cutting-edge insights. Are you prepared for the future?
URL:https://travelgrandvacations.com/event/supercorrexpo-2024/
LOCATION:Home
CATEGORIES:Orlando, FL
ATTACH;FMTTYPE=image/png:https://travelgrandvacations.com/wp-content/uploads/2024/05/Screenshot-2024-05-16-at-3.41.30 PM.png
END:VEVENT
BEGIN:VEVENT
DTSTART;TZID=UTC:20240906T000000
DTEND;TZID=UTC:20240908T000000
DTSTAMP:20260424T163405
CREATED:20240516T194001Z
LAST-MODIFIED:20240516T194001Z
UID:3292-1725580800-1725753600@travelgrandvacations.com
SUMMARY:Fanboy Expo Orlando 2024
DESCRIPTION:Don’t miss Fanboy Expo on its return back to the Sunshine State. Come join the fun featuring Celebrity Guests\, Comic Industry Pros\, Cosplay\, Vendors\, Live Entertainment and much more!
URL:https://travelgrandvacations.com/event/fanboy-expo-orlando-2024/
LOCATION:Home
CATEGORIES:Orlando, FL
ATTACH;FMTTYPE=image/png:https://travelgrandvacations.com/wp-content/uploads/2024/05/orlfbs.png
END:VEVENT
BEGIN:VEVENT
DTSTART;TZID=UTC:20240905T000000
DTEND;TZID=UTC:20240907T000000
DTSTAMP:20260424T163405
CREATED:20240516T193824Z
LAST-MODIFIED:20240516T193824Z
UID:3291-1725494400-1725667200@travelgrandvacations.com
SUMMARY:Surf Expo 2024
DESCRIPTION:Surf Expo is held twice a year\, January and September\, in Orlando\, Florida.WATERSPORTS AT SURF EXPO – Surf Expo is the largest and longest-running watersports tradeshow in the world\, featuring Surf\, Paddle\, Shoreline and Skate hard goods\, apparel and accessories.COASTAL LIFE AT SURF EXPO – Surf Expo has the largest collection of Swimwear\, Boutique\, Resort\, Footwear\, Coastal Gift and Souvenir products available under one roof.
URL:https://travelgrandvacations.com/event/surf-expo-2024/
LOCATION:Home
CATEGORIES:Orlando, FL
ATTACH;FMTTYPE=image/jpeg:https://travelgrandvacations.com/wp-content/uploads/2024/05/JC_11840.jpg
END:VEVENT
BEGIN:VEVENT
DTSTART;TZID=UTC:20240825T000000
DTEND;TZID=UTC:20240827T000000
DTSTAMP:20260424T163405
CREATED:20240516T193544Z
LAST-MODIFIED:20240516T193544Z
UID:3290-1724544000-1724716800@travelgrandvacations.com
SUMMARY:ICSC Florida 2024
DESCRIPTION:ICSC offers a range of events like mission and leadership talks\, talent development\, industry insights\, government relations\, and more. Connect with professionals\, attend webinars\, access resources\, and explore our directory\, networking platform\, and student resources. Don’t miss our featured events in Seattle\, Whistler\, and Northern California. Sponsorship options are available. Stay informed about event news and updates.
URL:https://travelgrandvacations.com/event/icsc-florida-2024/
LOCATION:Home
CATEGORIES:Orlando, FL
ATTACH;FMTTYPE=image/png:https://travelgrandvacations.com/wp-content/uploads/2024/05/ICSC_Florida_logo.png
END:VEVENT
BEGIN:VEVENT
DTSTART;TZID=UTC:20240821T000000
DTEND;TZID=UTC:20240823T000000
DTSTAMP:20260424T163405
CREATED:20240516T192959Z
LAST-MODIFIED:20240516T192959Z
UID:3289-1724198400-1724371200@travelgrandvacations.com
SUMMARY:The Landscape Show 2024
DESCRIPTION:The Landscape Show is a crucial gathering for the industry\, providing networking opportunities\, workshops\, and the latest in plant material. Attendees can access educational programs\, CEUs\, and business inspiration\, with a variety of exhibitors showcasing goods and services.
URL:https://travelgrandvacations.com/event/the-landscape-show-2024/
LOCATION:Home
CATEGORIES:Orlando, FL
ATTACH;FMTTYPE=image/jpeg:https://travelgrandvacations.com/wp-content/uploads/2024/05/home-bg2.jpg
END:VEVENT
BEGIN:VEVENT
DTSTART;TZID=UTC:20240817T000000
DTEND;TZID=UTC:20240818T000000
DTSTAMP:20260424T163405
CREATED:20240516T192351Z
LAST-MODIFIED:20240516T192351Z
UID:3288-1723852800-1723939200@travelgrandvacations.com
SUMMARY:Florida Kids and Family Expo 2024
DESCRIPTION:Discover a unique family event in Central Florida at the Florida Kids and Family Expo. With over 150 exhibitors\, it’s a day of discovery and fun for all. Kids can meet animals\, play games and more! Chick-fil-A is also offering a special deal for attendees.
URL:https://travelgrandvacations.com/event/florida-kids-and-family-expo-2024/
LOCATION:Home
CATEGORIES:Orlando, FL
ATTACH;FMTTYPE=image/jpeg:https://travelgrandvacations.com/wp-content/uploads/2024/05/rsz_22024_florida_kids_and_family_expo_-_blue_subglass_productions_1.jpg
END:VEVENT
BEGIN:VEVENT
DTSTART;TZID=UTC:20240809T000000
DTEND;TZID=UTC:20240810T000000
DTSTAMP:20260424T163405
CREATED:20240516T192057Z
LAST-MODIFIED:20240516T192057Z
UID:3287-1723161600-1723248000@travelgrandvacations.com
SUMMARY:STRONG Nation SYNC Summit 2024
DESCRIPTION:Learn and train with Lead Master Trainer Ai Lee Syarief and the entire team of Master Trainers and STRONG Techs. Plus\, pump up your skills through a series of educational sessions and network with SYNC Members from around the globe. You’ll leave this awe-inspiring and action-packed event feeling ready to lead.
URL:https://travelgrandvacations.com/event/strong-nation-sync-summit-2024/
LOCATION:Home
CATEGORIES:Orlando, FL
ATTACH;FMTTYPE=image/jpeg:https://travelgrandvacations.com/wp-content/uploads/2024/05/65d62d833a605798c18c0c1b_SYNC_SUMMIT_2023_Webpage_Hero_1_1280x500.jpg
END:VEVENT
BEGIN:VEVENT
DTSTART;TZID=UTC:20240804T000000
DTEND;TZID=UTC:20240807T000000
DTSTAMP:20260424T163405
CREATED:20240516T191643Z
LAST-MODIFIED:20240516T191643Z
UID:3286-1722729600-1722988800@travelgrandvacations.com
SUMMARY:Asia Pacific Consortium on Osteoporosis
DESCRIPTION:The Asia Pacific Consortium on Osteoporosis (APCO) comprises Osteoporosis experts from several countries in Asia Pacific\, charged with developing tangible solutions to the substantive challenges involving osteoporosis management and fracture prevention in this most populated and fastest growing region of the world.
URL:https://travelgrandvacations.com/event/asia-pacific-consortium-on-osteoporosis/
LOCATION:Home
CATEGORIES:Orlando, FL
ATTACH;FMTTYPE=image/jpeg:https://travelgrandvacations.com/wp-content/uploads/2024/05/Thumbnail.jpg
END:VEVENT
BEGIN:VEVENT
DTSTART;TZID=UTC:20240724T000000
DTEND;TZID=UTC:20240725T000000
DTSTAMP:20260424T163405
CREATED:20240516T190713Z
LAST-MODIFIED:20240516T190713Z
UID:3285-1721779200-1721865600@travelgrandvacations.com
SUMMARY:Southeast Building Conference 2024
DESCRIPTION:“The international trade event is for building construction industry”\nThe SEBC is a major building industry expo and education show in the Southeast\, offering educational programs\, networking opportunities\, round table discussions\, and industry briefings.
URL:https://travelgrandvacations.com/event/southeast-building-conference-2024/
LOCATION:Home
CATEGORIES:Orlando, FL
ATTACH;FMTTYPE=image/png:https://travelgrandvacations.com/wp-content/uploads/2024/05/Screenshot-2024-05-16-at-3.05.56 PM.png
END:VEVENT
BEGIN:VEVENT
DTSTART;TZID=UTC:20240716T000000
DTEND;TZID=UTC:20240719T000000
DTSTAMP:20260424T163405
CREATED:20240516T190409Z
LAST-MODIFIED:20240516T190409Z
UID:3284-1721088000-1721347200@travelgrandvacations.com
SUMMARY:ICA Sportfishing Trades 2024
DESCRIPTION:ICAST is where valuable business relationships are formed\, strengthened and celebrated. Orlando offers top-notch dining and lodging\, along with the Orange County Convention Center. The New Product Showcase features 37 categories and an overall “Best of Show” award. The American Sportfishing Association (ASA) advocates for the sportfishing and boating industries.
URL:https://travelgrandvacations.com/event/international-convention-of-allied-sportfishing-trades-2024/
LOCATION:Home
CATEGORIES:Orlando, FL
ATTACH;FMTTYPE=image/jpeg:https://travelgrandvacations.com/wp-content/uploads/2024/05/0006_res.jpg
END:VEVENT
BEGIN:VEVENT
DTSTART;TZID=UTC:20240711T000000
DTEND;TZID=UTC:20240713T000000
DTSTAMP:20260424T163405
CREATED:20240516T190025Z
LAST-MODIFIED:20240516T190025Z
UID:3283-1720656000-1720828800@travelgrandvacations.com
SUMMARY:Summer Fun Show 2024
DESCRIPTION:Florida United Numismatists\, Inc.\, is hosting the 18th Annual Summer FUN Convention in Orlando Florida\, July 11 – 13 2024. The convention will be held at the Orange County Convention Center\, 9800 International Drive in Hall WA1. This location is the original OCCC facility. The convention opens to the public at 10:00 A.M.\, July 11th and will run through 5:30 P.M. July 13th. Numismatic dealers from around the country will converge at the Orange County Convention Center to buy\, sell and appraise coins\, paper currency\, tokens\, medals and other items. Make sure to mark your calendar for this great numismatic event!
URL:https://travelgrandvacations.com/event/summer-fun-show-2024/
LOCATION:Home
CATEGORIES:Orlando, FL
ATTACH;FMTTYPE=image/jpeg:https://travelgrandvacations.com/wp-content/uploads/2024/05/floor_wide_2.jpg
END:VEVENT
BEGIN:VEVENT
DTSTART;VALUE=DATE:20240617
DTEND;VALUE=DATE:20240620
DTSTAMP:20260424T163405
CREATED:20240516T172006Z
LAST-MODIFIED:20240516T172006Z
UID:3282-1718582400-1718841599@travelgrandvacations.com
SUMMARY:NFPA Conference
DESCRIPTION:The Conference and Expo hosted by the National Fire Protection Association will address emerging issues and provide solutions through the latest knowledge. We are thrilled to see the potential for new technologies\, research\, and challenges in the future of safety as a community.
URL:https://travelgrandvacations.com/event/nfpa-conference-and-expo-2024/
CATEGORIES:Orlando, FL
ATTACH;FMTTYPE=image/jpeg:https://travelgrandvacations.com/wp-content/uploads/2024/05/NFPA-Blog-Post-Image_jpeg-scaled-e1690404995845.jpg
END:VEVENT
BEGIN:VEVENT
DTSTART;VALUE=DATE:20240609
DTEND;VALUE=DATE:20240613
DTSTAMP:20260424T163405
CREATED:20240516T170534Z
LAST-MODIFIED:20240516T170534Z
UID:3281-1717891200-1718236799@travelgrandvacations.com
SUMMARY:118th Annual Conference
DESCRIPTION:Join us for 70+ CPE-accredited sessions that will address current issues facing government finance professionals\, inspiring keynote sessions\, interactive discussions\, leadership workshops\, and networking opportunities.
URL:https://travelgrandvacations.com/event/118th-annual-conference-overview/
LOCATION:Home
CATEGORIES:Orlando, FL
ATTACH;FMTTYPE=image/avif:https://travelgrandvacations.com/wp-content/uploads/2024/05/6a6cd0f9-4630-472c-95f7-b4135ff9ad8e_GFOA-2024-Social-Main.avif
END:VEVENT
BEGIN:VEVENT
DTSTART;VALUE=DATE:20240608
DTEND;VALUE=DATE:20240610
DTSTAMP:20260424T163405
CREATED:20240516T165831Z
LAST-MODIFIED:20240516T165831Z
UID:3279-1717804800-1717977599@travelgrandvacations.com
SUMMARY:The National Franchise Show
DESCRIPTION:2 Days Only! Meet Face to Face with Proven Businesses\nProven\, money making businesses that are now expanding in Orlando are here to meet new potential owners. This is your only opportunity to meet with the hottest businesses face to face. Ask questions and get the information you need in a no pressure environment. Be there\, find the businesses that excite you\, shake hands and say hello!
URL:https://travelgrandvacations.com/event/the-national-franchise-show/
LOCATION:Home
CATEGORIES:Orlando, FL
ATTACH;FMTTYPE=image/png:https://travelgrandvacations.com/wp-content/uploads/2024/05/US-franchise-Presented-By-TheEntrepreneurs-Source.png
END:VEVENT
END:VCALENDAR