BEGIN:VCALENDAR
VERSION:2.0
PRODID:-//Grand Vacation - ECPv6.15.20//NONSGML v1.0//EN
CALSCALE:GREGORIAN
METHOD:PUBLISH
X-WR-CALNAME:Grand Vacation
X-ORIGINAL-URL:https://travelgrandvacations.com
X-WR-CALDESC:Events for Grand Vacation
REFRESH-INTERVAL;VALUE=DURATION:PT1H
X-Robots-Tag:noindex
X-PUBLISHED-TTL:PT1H
BEGIN:VTIMEZONE
TZID:UTC
BEGIN:STANDARD
TZOFFSETFROM:+0000
TZOFFSETTO:+0000
TZNAME:UTC
DTSTART:20230101T000000
END:STANDARD
END:VTIMEZONE
BEGIN:VEVENT
DTSTART;VALUE=DATE:20240618
DTEND;VALUE=DATE:20240622
DTSTAMP:20260425T035406
CREATED:20240603T075537Z
LAST-MODIFIED:20240603T075537Z
UID:3355-1718668800-1719014399@travelgrandvacations.com
SUMMARY:Realcomm IBcon 2024
DESCRIPTION:Realcomm Conference Group\, LLC is a worldwide research and event company at the intersection of technology\, innovation and real estate operations. Through our annual conferences\, webinars\, workshops\, CIO Forums and other strategic services\, Realcomm provides networking and collaboration opportunities\, while educating industry professionals about the latest business solutions and technologies to improve commercial real estate development\, leasing\, management and operations.
URL:https://travelgrandvacations.com/event/realcomm-ibcon-2024/
CATEGORIES:Tampa
ATTACH;FMTTYPE=image/webp:https://travelgrandvacations.com/wp-content/uploads/2024/06/realcomm-ibcon.png.webp
END:VEVENT
END:VCALENDAR